BEGIN:VCALENDAR
VERSION:2.0
PRODID:-//Greensboro Bound - ECPv6.15.20//NONSGML v1.0//EN
CALSCALE:GREGORIAN
METHOD:PUBLISH
X-WR-CALNAME:Greensboro Bound
X-ORIGINAL-URL:https://greensborobound.com
X-WR-CALDESC:Events for Greensboro Bound
REFRESH-INTERVAL;VALUE=DURATION:PT1H
X-Robots-Tag:noindex
X-PUBLISHED-TTL:PT1H
BEGIN:VTIMEZONE
TZID:America/New_York
BEGIN:DAYLIGHT
TZOFFSETFROM:-0500
TZOFFSETTO:-0400
TZNAME:EDT
DTSTART:20240310T070000
END:DAYLIGHT
BEGIN:STANDARD
TZOFFSETFROM:-0400
TZOFFSETTO:-0500
TZNAME:EST
DTSTART:20241103T060000
END:STANDARD
BEGIN:DAYLIGHT
TZOFFSETFROM:-0500
TZOFFSETTO:-0400
TZNAME:EDT
DTSTART:20250309T070000
END:DAYLIGHT
BEGIN:STANDARD
TZOFFSETFROM:-0400
TZOFFSETTO:-0500
TZNAME:EST
DTSTART:20251102T060000
END:STANDARD
BEGIN:DAYLIGHT
TZOFFSETFROM:-0500
TZOFFSETTO:-0400
TZNAME:EDT
DTSTART:20260308T070000
END:DAYLIGHT
BEGIN:STANDARD
TZOFFSETFROM:-0400
TZOFFSETTO:-0500
TZNAME:EST
DTSTART:20261101T060000
END:STANDARD
END:VTIMEZONE
BEGIN:VEVENT
DTSTART;TZID=America/New_York:20251102T150000
DTEND;TZID=America/New_York:20251102T170000
DTSTAMP:20260421T224411
CREATED:20250625T161552Z
LAST-MODIFIED:20250814T154524Z
UID:14229-1762095600-1762102800@greensborobound.com
SUMMARY:"The Eyes of Bach" a novel by musician and author Marc Moskovitz
DESCRIPTION:Greensboro Bound\, in partnership with Music for a Great Space and GreenHill Center for NC Art\, presents cellist and author Marc Moskovitz. \nJoin us for an afternoon exploring “The Eyes of Bach” a novel by musician and author Marc Moskovitz. In this gripping novel\, Moskovitz transports the reader into the milieu of 18th-century Europe-its cobblestone streets and music-filled churches. Based on true events and rich in musical and historical detail\, The Eyes of Bach is a sweeping tale of one man’s unrelenting search for truth. \nThis event will feature a live performance of Bach’s music and a Q&A with the author. \nSUNDAY\, NOVEMBER 2 | 3:00-5:00 pm\nat GreenHill Center for NC Art (2nd floor\, Greensboro Cultural Center in downtown Greensboro)
URL:https://greensborobound.com/event/the-eyes-of-bach-a-novel-by-musician-and-author-marc-moskovitz/
LOCATION:GreenHill Center for NC Art\, 200 N DAVIE STREET\, Greensboro\, NC\, 27401\, United States
CATEGORIES:Adult
END:VEVENT
END:VCALENDAR