BEGIN:VCALENDAR
VERSION:2.0
PRODID:-//Greensboro Bound - ECPv6.15.20//NONSGML v1.0//EN
CALSCALE:GREGORIAN
METHOD:PUBLISH
X-WR-CALNAME:Greensboro Bound
X-ORIGINAL-URL:https://greensborobound.com
X-WR-CALDESC:Events for Greensboro Bound
REFRESH-INTERVAL;VALUE=DURATION:PT1H
X-Robots-Tag:noindex
X-PUBLISHED-TTL:PT1H
BEGIN:VTIMEZONE
TZID:America/New_York
BEGIN:DAYLIGHT
TZOFFSETFROM:-0500
TZOFFSETTO:-0400
TZNAME:EDT
DTSTART:20200308T070000
END:DAYLIGHT
BEGIN:STANDARD
TZOFFSETFROM:-0400
TZOFFSETTO:-0500
TZNAME:EST
DTSTART:20201101T060000
END:STANDARD
BEGIN:DAYLIGHT
TZOFFSETFROM:-0500
TZOFFSETTO:-0400
TZNAME:EDT
DTSTART:20210314T070000
END:DAYLIGHT
BEGIN:STANDARD
TZOFFSETFROM:-0400
TZOFFSETTO:-0500
TZNAME:EST
DTSTART:20211107T060000
END:STANDARD
BEGIN:DAYLIGHT
TZOFFSETFROM:-0500
TZOFFSETTO:-0400
TZNAME:EDT
DTSTART:20220313T070000
END:DAYLIGHT
BEGIN:STANDARD
TZOFFSETFROM:-0400
TZOFFSETTO:-0500
TZNAME:EST
DTSTART:20221106T060000
END:STANDARD
END:VTIMEZONE
BEGIN:VEVENT
DTSTART;TZID=America/New_York:20210515T100000
DTEND;TZID=America/New_York:20210515T110000
DTSTAMP:20260425T083926
CREATED:20210331T193205Z
LAST-MODIFIED:20210401T225405Z
UID:5583-1621072800-1621076400@greensborobound.com
SUMMARY:Our Stories\, Our Voices: Four Years On
DESCRIPTION:Join Our Stories\, Our Voices: 21 YA Authors Get Real About Injustice\, Empowerment\, and Growing Up Female in America editor AMY REED and contributors TRACY DEONN\, AMBER SMITH\, and IW GREGORIO as they look back on their contribution to Our Stories\, Our Voices. We’ll take a closer look at how their perspectives have changed over the past four years and what they might say now if they were to write their essays all over again; and how and why their writing has changed since Our Stories\, Our Voices was first published in 2018. \nSunday\, 5/16 –  Part 2 – Our Stories\, Our Voices: Writing As Activism\nSunday\, 5/16 – Your Story\, Your Voice: A Writing Workshop\n \nPurchase books from our official bookseller\, Scuppernong Books\, by clicking book images above. \n  \nAMY REED is the award-winning author of several novels for young adults\, including The Nowhere Girls\, The Boy and Girl Who Broke the World\, Beautiful\, Clean\, and Crazy. Her newest book\, the psychological thriller Tell Me My Name\,  is a near-future\, gender-swapped retelling of The Great Gatsby. Amy is a feminist\, mother\, and Virgo who enjoys running\, making lists\, and wandering around the mountains of western North Carolina where she lives.\nAuthor Website \nTRACY DEONN is the New York Times bestselling author of Legendborn and a second-generation fangirl who grew up in North Carolina. Tracy has worked in live theater\, video games\, and K–12 education. When she’s not writing\, Tracy speaks on panels at SFF conventions\, reads fanfic\, and keeps an eye out for ginger-flavored everything.\nAuthor Website \nAMBER SMITH is the New York Times bestselling author of the young adult novels The Way I Used to Be\, The Last to Let Go\, and Something Like Gravity. An advocate for increased awareness of gendered violence\, as well as LGBTQ equality\, she writes in the hope that her books can help to foster change and spark dialogue surrounding these issues. She grew up in Buffalo\, New York\, and now lives in Charlotte\, North Carolina\, with her wife and their ever-growing family of rescued dogs and cats. \nAuthor Website \nIW GREGORIO is a practicing surgeon by day\, masked avenging YA writer by night. She is author of This is My Brain in Love\, which was awarded the 2020 Schneider Family Book Award by the American Library Association. After getting her MD\, she did her residency at Stanford\, where she met the intersex patient who inspired her debut novel\, None of the Above\, which was a Lambda Literary Finalist\, a Publishers Weekly Flying Start\, and an ALA Rainbow List selection. She is proud to be a board member of interACT: Advocates for Intersex Youth\, and is a founding member of We Need Diverse Books. Her essays have been published in Newsweek\, The Washington Post\, The San Francisco Chronicle\, The Philadelphia Inquirer\, and Scientific American\, among others.\nAuthor Website \n  \nThis event is sponsored by:
URL:https://greensborobound.com/event/our-stories-our-voices-1/
LOCATION:VIRTUAL
CATEGORIES:Adult,Memoir/Personal Essay,Non-Fiction,Young Adult
END:VEVENT
BEGIN:VEVENT
DTSTART;TZID=America/New_York:20210515T110000
DTEND;TZID=America/New_York:20210515T120000
DTSTAMP:20260425T083926
CREATED:20210401T072046Z
LAST-MODIFIED:20210510T161738Z
UID:5596-1621076400-1621080000@greensborobound.com
SUMMARY:Hidden Histories with Lisa Levenstein & Shanna Greene Benjamin
DESCRIPTION:Join the discussion with SHANNA GREENE BENJAMIN and LISA LEVENSTEIN  about memory\, the public persona and the private individual\, the biographer/historian’s relationship to her subject(s)\, and the intersectionality of sexism\, racism\, and economic inequality. Benjamin’s Half in Shadow gives a full and surprising picture of the life of Nellie Y. McKay (1930-2006)\, an American literary scholar best known for her collaboration with Henry Louis Gates\, Jr. on The Norton Anthology of African American Literature. McKay\, a Black working-class woman\, kept much of her private life in secret\, creating a public persona as one of many strategies she used to navigate the primarily white male American academy while simultaneously lifting up Black scholarly and literary voices in the academy. Levenstein’s They Didn’t See Us Coming: The Hidden History of Feminism in the Nineties takes a closer look at a time when many (including the cover of Time magazine) declared feminism dead. Instead\, Levenstein uncovers a vital (and overlooked) transition period when multiracial and grassroots organizers across the globe (re)shaped the women’s movement. Hosted by ANN CAHILL.  [rsvp required; see below] \nPurchase books from our official bookseller\, Scuppernong Books\, by clicking book images above. \nDR. SHANNA GREENE BENJAMIN  is a biographer and scholar who studies the literature\, lives\, and archives of Black women. Dr. Benjamin earned her Ph.D. in English and M.A. in Afro-American Studies from the University of Wisconsin-Madison; she received a B.A. in English from Johnson C. Smith University—a historically Black college in Charlotte\, North Carolina.  She is also a Mellon Mays undergraduate fellow who now serves on the UNCF/Mellon Board of Advisors. Dr. Benjamin currently lives with her family in Charlotte\, North Carolina.\nAuthors Website \nDR. LISA LEVENSTEIN is Director of the Women’s\, Gender\, and Sexuality Studies Program and Associate Professor of History at UNC Greensboro. Her first book\, A Movement Without Marches\, won the Kenneth Jackson Book Award. She lives in Chapel Hill\, NC.\nAuthor Website \nDR. ANN CAHILL is a professor of philosophy at Elon University. Her research interests lie at the intersection of feminist theory and philosophy of the body\, and her scholarship has addressed topics such as sexual assault\, miscarriage\, beautification\, and sex work. Her forthcoming book\, Sounding Bodies: Identity\, Injustice\, and the Voice\, co-authored with Christine Hamel\, explores the social\, political\, and ethical meanings of voice as human-generated sound. \nThis event is sponsored by \n\n\n\n\n\n\n\n\n\n\n 
URL:https://greensborobound.com/event/levenstein-benjamin/
LOCATION:VIRTUAL
CATEGORIES:Adult,Non-Fiction
END:VEVENT
BEGIN:VEVENT
DTSTART;TZID=America/New_York:20210515T120000
DTEND;TZID=America/New_York:20210515T130000
DTSTAMP:20260425T083926
CREATED:20210401T071859Z
LAST-MODIFIED:20210421T203648Z
UID:5602-1621080000-1621083600@greensborobound.com
SUMMARY:Love\, Justice\, and Healing with Sharon Salzberg & Omid Safi
DESCRIPTION:Join us in a discussion on love\, justice\, and healing with SHARON SALZBERG and OMID SAFI.  Host MOLLY SENTELL HAILE will explore how ideas of radical love and loving kindness relate to our personal lives\, pandemic living\, and social change. Sharon Salzberg is a central figure in the field of meditation and a world-renowned teacher and author of eleven books\, including the New York Times bestseller Real Happiness and\, most recently\, Real Change: Mindfulness to Heal Ourselves and the World. Omid Safi\, translator and editor of Radical Love: Teachings from the Islamic Mystical Tradition\, is a professor of Islamic studies at Duke University and leads Illuminated Tours interfaith journeys. Both Safi and Salzberg have been columnists for On Being\, a website and public radio program that explores what it is to be human and how we want to live.[rsvp required; see below] \nPurchase books from our official bookseller\, Scuppernong Books\, by clicking book image above. \nSHARON SALZBERG is a meditation pioneer and industry leader\, a world-renowned teacher\, and New York Times bestselling author. As one of the first to bring meditation and mindfulness into mainstream American culture over 45 years ago\, her relatable\, demystifying approach has inspired generations of meditation teachers and wellness influencers. Sharon is co-founder of The Insight Meditation Society in Barre\, MA\, and the author of eleven books\, including the New York Times bestseller\, Real Happiness\, now in its second edition\, her seminal work\, Lovingkindness\, and her newest book\, Real Change: Mindfulness To Heal Ourselves and the World. Sharon’s secular\, modern approach to Buddhist teachings is sought after at schools\, conferences\, and retreat centers worldwide. Her podcast\, The Metta Hour\, has amassed over 3 million downloads and features interviews with the top leaders and thinkers of the mindfulness movement and beyond. Sharon’s writing can be found on Medium\, On Being\, the Maria Shriver blog\, and Huffington Post.\nAuthor Website \nOMID SAFI is a teacher in the Sufi tradition of Radical Love. He is a professor at Duke University specializing in Islamic spirituality and contemporary thought. Omid has published extensively on the foundational sources of Islam and Sufism. His Memories of Muhammad is a biography of the Prophet Muhammad. His most recent book is Radical Love: Teachings from the Islamic Mystical Tradition (published by Yale). He has been invited by the family of Dr. King to speak at Ebenezer Church on the relevance of Dr. King for today’s America\, and has delivered the Martin Luther King keynote in the annual national MLK service.  His Illuminated Tours have taken more than a 1\,000 friends from over twenty countries to Turkey and Morocco since 2002\, and he is now offering Illuminated Courses for online offerings on spiritual traditions open to seekers of all backgrounds.\nAuthor Website \nMOLLY SENTELL HAILE’s short stories and nonfiction have appeared in or are forthcoming in Oxford American\, The North Carolina Literary Review\, O. Henry Magazine\, Jabberwock Review\, and elsewhere. She was awarded the 2020 Doris Betts Fiction Prize\, has been nominated for a Pushcart Prize\, and was a notable in The Best American Nonrequired Reading. A graduate of the University of North Carolina at Greensboro’s MFA in Creative Writing\, she currently teaches creative writing classes for people with cancer\, survivors\, and caregivers at Hirsch Wellness Network in Greensboro and is at work her first novel. \n  \nThis presentation is sponsored by
URL:https://greensborobound.com/event/salzberg-safi/
LOCATION:VIRTUAL
CATEGORIES:Adult,Non-Fiction
END:VEVENT
BEGIN:VEVENT
DTSTART;TZID=America/New_York:20210515T150000
DTEND;TZID=America/New_York:20210515T160000
DTSTAMP:20260425T083926
CREATED:20210401T071157Z
LAST-MODIFIED:20210510T161316Z
UID:5613-1621090800-1621094400@greensborobound.com
SUMMARY:Issac Bailey & Bakari Sellers
DESCRIPTION:Essayist ISSAC BAILEY author of Why Didn’t We Riot: A Black Man in Trumpland\, and CNN commentator BAKARI SELLERS\, author of My Vanishing Country\, review the life of African Americans in post-Trump America and in the South. They address traumas that shaped their lives: Dylan Roof and Mother Emmanuel AME\, African American accommodation of whites\, the myths and truths that made Donald Trump president\, reparations\, and the changes we must make to end 400+ years of systemic racism. Hosted by STEPHEN COLYER.  [rsvp required; see below]  \nPurchase books from our official bookseller\, Scuppernong Books\, by clicking book image above. \nBAKARI SELLERS is a CNN political analyst and was the youngest-ever member of the South Carolina state legislature. Recently named to TIME’s “40 Under 40” List\, he is also a practicing attorney fighting to give a voice for the voiceless.\nAuthor Website\n \nISSAC BAILEY is a veteran journalist who has won numerous writing and reporting awards and has conducted investigations that led to changes in the way the S.C. Department of Social Services handles child protection cases. He is also a certified guardian ad litem and has served as the legal representative in Family Court for children in distress and has spent several years mentoring troubled youth in a variety of capacities. Bailey is Davidson College’s Batten Professor and taught journalism and applied ethics at Coastal Carolina University for several years.  He is married to Dr. Tracy Bailey\, founder and executive director of non-profit literacy organization\, Freedom Readers\, and has two teenaged children. Bailey’s 2018 book\, My Brother Moochie\, which discusses the effects of the criminal justice system on black families\, has received critical acclaim and has been featured in the New York Times.\nAuthor Website\n\nSTEPHEN COLYER is the Greensboro Literary Organization Board Treasurer and one of the founders of Greensboro Bound. He has been thrilled to see an idea crystallize\, grow and become a valued part of our community’s arts ecosystem. His interest in book fairs/literary festivals stemmed from a 21 year sojourn in Miami where he attended and then volunteered with Miami Book Fair\, the largest literary festival in the United States. He lives in Jamestown\, NC with his wife Sandra and their dog\, Missy.
URL:https://greensborobound.com/event/bailey-sellers/
LOCATION:VIRTUAL
CATEGORIES:Adult,Memoir/Personal Essay,Non-Fiction
END:VEVENT
END:VCALENDAR