BEGIN:VCALENDAR
VERSION:2.0
PRODID:-//Greensboro Bound - ECPv6.15.20//NONSGML v1.0//EN
CALSCALE:GREGORIAN
METHOD:PUBLISH
X-ORIGINAL-URL:https://greensborobound.com
X-WR-CALDESC:Events for Greensboro Bound
REFRESH-INTERVAL;VALUE=DURATION:PT1H
X-Robots-Tag:noindex
X-PUBLISHED-TTL:PT1H
BEGIN:VTIMEZONE
TZID:America/New_York
BEGIN:DAYLIGHT
TZOFFSETFROM:-0500
TZOFFSETTO:-0400
TZNAME:EDT
DTSTART:20210314T070000
END:DAYLIGHT
BEGIN:STANDARD
TZOFFSETFROM:-0400
TZOFFSETTO:-0500
TZNAME:EST
DTSTART:20211107T060000
END:STANDARD
BEGIN:DAYLIGHT
TZOFFSETFROM:-0500
TZOFFSETTO:-0400
TZNAME:EDT
DTSTART:20220313T070000
END:DAYLIGHT
BEGIN:STANDARD
TZOFFSETFROM:-0400
TZOFFSETTO:-0500
TZNAME:EST
DTSTART:20221106T060000
END:STANDARD
BEGIN:DAYLIGHT
TZOFFSETFROM:-0500
TZOFFSETTO:-0400
TZNAME:EDT
DTSTART:20230312T070000
END:DAYLIGHT
BEGIN:STANDARD
TZOFFSETFROM:-0400
TZOFFSETTO:-0500
TZNAME:EST
DTSTART:20231105T060000
END:STANDARD
BEGIN:DAYLIGHT
TZOFFSETFROM:-0500
TZOFFSETTO:-0400
TZNAME:EDT
DTSTART:20240310T070000
END:DAYLIGHT
BEGIN:STANDARD
TZOFFSETFROM:-0400
TZOFFSETTO:-0500
TZNAME:EST
DTSTART:20241103T060000
END:STANDARD
BEGIN:DAYLIGHT
TZOFFSETFROM:-0500
TZOFFSETTO:-0400
TZNAME:EDT
DTSTART:20250309T070000
END:DAYLIGHT
BEGIN:STANDARD
TZOFFSETFROM:-0400
TZOFFSETTO:-0500
TZNAME:EST
DTSTART:20251102T060000
END:STANDARD
BEGIN:DAYLIGHT
TZOFFSETFROM:-0500
TZOFFSETTO:-0400
TZNAME:EDT
DTSTART:20260308T070000
END:DAYLIGHT
BEGIN:STANDARD
TZOFFSETFROM:-0400
TZOFFSETTO:-0500
TZNAME:EST
DTSTART:20261101T060000
END:STANDARD
END:VTIMEZONE
BEGIN:VEVENT
DTSTART;TZID=America/New_York:20220522T143000
DTEND;TZID=America/New_York:20220522T153000
DTSTAMP:20260425T131942
CREATED:20220322T192411Z
LAST-MODIFIED:20220522T025332Z
UID:8536-1653229800-1653233400@greensborobound.com
SUMMARY:Journalism and Activism
DESCRIPTION:Advanced registration for this event is closed. However\, you may "walk-up" and register onsite.  \n\n\n	 \n	\n		\n	\n\n	\n\n		\n		\n			\n															\n		\n\n	\n\n\n	\n\n	\n\n		\n		\n			\n															\n		\n\n	\n\n\n	\n\n	\n\n		\n		\n			\n															\n		\n\n	\n\n\n	\n\n	\n\n		\n		\n			\n															\n		\n\n	\n\n\n	\n\n	\n\n		\n		\n			\n															\n		\n\n	\n\n\n	\n\n	\n\n		\n		\n			\n															\n		\n\n	\n\n\n	\n\n	\n\n		\n		\n			\n															\n		\n\n	\n\n		\n	\n\n	\n	\n	\n\n	\n\n\n\n*All events are FREE\, but we do ask that you please register so that we can monitor attendance and venue capacity.* \nJournalists and writers from different backgrounds discuss the importance of engaging equity\, criminal justice\, and community. The press\, and citizen journalists\, provide witness on systemic issues impacting local communities. A conversation with TESSIE CASTILLO\, TARA T. GREEN\, and LYNDEN HARRIS. Hosted by JOE KILLIAN. This panel is in partnership with the PEN America NC Piedmont Chapter.  **The ICRCM requires all guests to wear face coverings. View policy under “Museum Protocols”.** 4/5/22 \nYou may also be interested in:\n• Writing Toward Justice: Non-Fiction as a Call to Action\n• An Conversation with Nikole Hannah-Jones\n• Images of Justice and Power\n• Truth Tellers documentary presentation \n  \nTESSIE CASTILLO is an author\, journalist and public speaker who specializes in stories on prison reform\, drug policy\, restorative justice\, and racial equity. She is the editor of Crimson Letters: Voices from Death Row\, an original anthology of writings about the death penalty that features entries by Castillo as well as several current residents of North Carolina’s Death Row. In 2021 Crimson Letters was a finalist for the 2021 Eric Hoffer award for excellence in small press publishing and Castillo received the Victor Hassine Memorial Scholarship at American University for using creative work to educate the public on criminal justice issues. Tessie Castillo lives in Durham\, North Carolina with her daughter. To see more of her writings or to request a speaking engagement with her and her co-authors\, visit www.tessiecastillo.com. \nTARA T. GREEN is an award-winning scholar and professor of African American and African Diaspora Studies at the University of North Carolina in Greensboro. She is the author and editor of six books\, including Love\, Activism\, and the Respectable Life of Alice Dunbar-Nelson and See Me Naked: Black Women Defining Pleasure During the Interwar Era. She is from the suburbs of New Orleans. \nLYNDEN HARRIS is the founder of Hidden Voices\, a radically inclusive\, participatory\, and co-creative collective committed to a more just and compassionate world. For twenty years\, Lynden has collaborated with underrepresented communities to create award-winning works that combine narrative\, performance\, mapping\, music\, digital media\, and interactive exhibits. During her decades facilitating community connections\, Lynden developed a participatory workshop model to empower change through collective visioning and collaborative action. This process facilitates a dynamic exchange between documentary\, art\, and community that allows for a multiplicity of voices and a multiplexity of understandings. The former Artistic Director of ArtsCenter Stage\, Lynden was a founding Cultural Agent for the US Department of Arts and Culture and member of the MAP Fund Class of 2017 for Serving Life: ReVisioning Justice. Lynden is a 2020-21 Fellow with A Blade of Grass\, the 2020 recipient of the Ann Atwater Theater Award\, and the 2020 North Carolina Playwriting Fellow. Her music theater work-in-development\, A GOOD BOY\, is currently a semifinalist for the National Music Theater Conference. RIGHT HERE\, RIGHT NOW: Life Stories from America’s Death Row was published by Duke University Press in 2021. \nJOE KILLIAN is a senior investigative reporter at N.C. Policy Watch. His work takes a closer look at government\, politics and policy in North Carolina and their impact on the lives of everyday people. Before joining Policy Watch\, Joe worked in daily newspapers for more than a decade covering cops\, courts\, local and state government\, congressional campaigns and national political conventions. He has worked at the Bristol Press in Bristol\, Connecticut; The Cape Cod Times in Hyannis\, Massachusetts\, and The News & Record in Greensboro\, NC. His work has appeared in daily and weekly papers\, magazines and digital-first publications across the state and country. He is currently working on a book about the politicization of the North Carolina’s public university system. \n  \nSponsored by PEN America NC Piedmont Chapter
URL:https://greensborobound.com/event/journalism-and-activism/
LOCATION:International Civil Rights Center & Museum\, 134 SElm Street\, Greensboro\, NC\, 27401
CATEGORIES:IBPOC Authors,Non-Fiction,Social Justice
END:VEVENT
BEGIN:VEVENT
DTSTART;TZID=America/New_York:20220522T143000
DTEND;TZID=America/New_York:20220522T153000
DTSTAMP:20260425T131942
CREATED:20220325T195251Z
LAST-MODIFIED:20220522T025323Z
UID:8427-1653229800-1653233400@greensborobound.com
SUMMARY:Eating & Drinking Together: How Food Shapes Culture
DESCRIPTION:Advanced registration for this event is closed. However\, you may "walk-up" and register onsite.  \n\n\n	 \n	\n		\n	\n\n	\n\n		\n		\n			\n															\n		\n\n	\n\n\n	\n\n	\n\n		\n		\n			\n															\n		\n\n	\n\n\n	\n\n	\n\n		\n		\n			\n															\n		\n\n	\n\n\n	\n\n	\n\n		\n		\n			\n															\n		\n\n	\n\n\n	\n\n	\n\n		\n		\n			\n															\n		\n\n	\n\n		\n	\n\n	\n	\n	\n\n	\n\n\n*All events are FREE\, but we do ask that you please register so that we can monitor attendance and venue capacity.* \nJULIA SKINNER and MARCIE COHEN FERRIS are both food historians and they bring deep understanding of the role of food and drink in our past and in our present. Each author examines how culinary excellence\, entrepreneurship\, and the struggle for racial justice converge in shaping food equity. Hosted by TAL BELVINS \nDR. JULIA SKINNER  is passionate about what we eat and the stories behind it. She uses her broad-ranging background\, from libraries to kitchens to visual art and even city bus driving to help us understand our food. She is the author of Our Fermented Lives: A History of How Fermented Foods Have Shaped Cultures & Communities. She also owns Root\, Atlanta’s fermentation and food history company offering classes\, consulting\, and other services worldwide. Julia’s writing has appeared in a number of national and regional outlets\, as well as in scholarly journals\, and she writes and illustrates a weekly newsletter on food issues. Julia is an avid fermenter\, regularly brewing and pickling whatever she can get her hands on\, as well as working with wild plants in her garden. You can follow her work at @rootkitchens or @bookishjulia. \nMARCIE COHEN FERRIS\, author of The Edible South: The Power of Food and the Making of an American Region and Matzoh Ball Gumbo: Culinary Tales of the Jewish South\, is professor emerita of American studies at the University of North Carolina at Chapel Hill. \nTAL BLEVINS is the owner of MACHETE\, a James Beard-nominated restaurant in Greensboro\, NC.
URL:https://greensborobound.com/event/eating-and-drinking-together/
LOCATION:Stephen D. Hyers Theater\, Greensboro Cultural Center\, 200 N Davie Street\, GREENSBORO\, NC\, 27401\, United States
CATEGORIES:Cookbooks,LGBTQIA,Non-Fiction
END:VEVENT
BEGIN:VEVENT
DTSTART;TZID=America/New_York:20220522T160000
DTEND;TZID=America/New_York:20220522T170000
DTSTAMP:20260425T131942
CREATED:20220325T213608Z
LAST-MODIFIED:20220522T025305Z
UID:8736-1653235200-1653238800@greensborobound.com
SUMMARY:Just Bring Yourself: A Conversation with Ann Hood and Julia Ridley Smith
DESCRIPTION:Advanced registration for this event is closed. However\, you may "walk-up" and register onsite.  \n\n\n	 \n	\n		\n	\n\n	\n\n		\n		\n			\n															\n		\n\n	\n\n\n	\n\n	\n\n		\n		\n			\n															\n		\n\n	\n\n\n	\n\n	\n\n		\n		\n			\n															\n		\n\n	\n\n\n	\n\n	\n\n		\n		\n			\n															\n		\n\n	\n\n\n	\n\n	\n\n		\n		\n			\n															\n		\n\n	\n\n		\n	\n\n	\n	\n	\n\n	\n\n\n*All events are FREE\, but we do ask that you please register so that we can monitor attendance and venue capacity.* \nJoin us for a conversation about the pleasures and challenges of writing memoir. When mining material from their own lives\, how do writers decide what to include and what to let go? How much (or little) are family members and friends included in the research and writing? We’ll also talk about the role of humor in memoir and how these writers approach memoir differently from (or similarly to) the fiction they write. With ANN HOOD and JULIA RIDLEY SMITH. Hosted by MOLLY SENTELL HAILE. \n  \nYou may also be interested in: \n• Memoir Plus: A Conversation on Hybrid Memoir\n• $ WORKSHOP Down the Rabbit Hole of Your Own Life: A Creative Writing Lab with Laurie Stone\n• Lost Mothers: Memoirs of Longing\n• $ WORKSHOP Writing from the Body with Nicole Lungerhausen \nANN HOOD is the author of the bestselling novels The Knitting Circle\, The Obituary Writer and The Book That Matters Most. Her memoir\, Comfort: A Journey Through Grief\, was a NYT Editors Choice and was named one of the top ten nonfiction books of 2008 by Entertainment Weekly. She lives in Rhode Island and NYC. \nJULIA RIDLEY SMITH is the author of a memoir\, The Sum of Trifles (University of Georgia Press\, 2021). She’s published fiction in Alaska Quarterly Review\, Electric Literature\, The Southern Review\, and elsewhere. Her nonfiction has appeared in Ecotone\, the New England Review\, and Southern Cultures\, and was recognized as notable in The Best American Essays. She has taught creative writing and literature at UNC Greensboro and is the 2021–22 Kenan Visiting Writer at UNC Chapel Hill. \nMOLLY SENTELL HAILE is a writer and educator whose short stories and nonfiction have appeared in Oxford American\, The North Carolina Literary Review\, Epiphany\, O. Henry Magazine\, and elsewhere. She was awarded the Doris Betts Fiction Prize and is a Pushcart and O. Henry Award nominee. Her work received a Notable designation in The Best American Nonrequired Reading. A graduate of the University of North Carolina at Greensboro’s MFA in Creative Writing\, she currently teaches creative writing classes for people with cancer\, survivors\, and caregivers at Hirsch Wellness Network in Greensboro and is at work on her first novel. \n 
URL:https://greensborobound.com/event/hood-smith/
LOCATION:Van Dyke Performance Space\, Greensboro Cultural Center\, 200 N Davie Street\, Greensboro\, NC\, 27401\, United States
CATEGORIES:Memoir/Personal Essay,Non-Fiction
END:VEVENT
BEGIN:VEVENT
DTSTART;TZID=America/New_York:20221006T180000
DTEND;TZID=America/New_York:20221006T194500
DTSTAMP:20260425T131942
CREATED:20220829T164243Z
LAST-MODIFIED:20220914T152657Z
UID:12539-1665079200-1665085500@greensborobound.com
SUMMARY:Beth Macy
DESCRIPTION:  \n  \n  \n  \n  \n  \nGreensboro Bound presents BETH MACY\, author of Raising Lazarus and Dopesick\,  in partnership with Cone Health and Scuppernong Books.\n\nDue to limited seating rsvp is requested. Please note: **RSVPs over venue capacity will be placed on standby and you will be notified.**\n\n \n  \n\nRaising Lazarus is the crucial next installment in the story of the defining disaster of our era\, one that touches every single one of us\, whether directly or indirectly. A complex story of public health\, big pharma\, dark money\, politics\, race\, and class that is by turns harrowing and heartening\, infuriating and inspiring\, Raising Lazarus is a must-read for all Americans. \nAvailable for purchase from our independent bookseller partner\, Scuppernong Books.  \nBETH MACY is a Virginia-based journalist\, the author of Dopesick: Dealers\, Doctors\, and the Drug Company That Addicted America\, and an executive producer and cowriter on Hulu’s Peabody Award-winning “Dopesick” series. \n 
URL:https://greensborobound.com/event/beth-macy/
LOCATION:Union Square Auditorium\, 124 E Gate City Blvd\, Greensboro\, NC\, 27406
CATEGORIES:Adult,Non-Fiction
END:VEVENT
BEGIN:VEVENT
DTSTART;TZID=America/New_York:20250423T160000
DTEND;TZID=America/New_York:20250423T180000
DTSTAMP:20260425T131942
CREATED:20250205T175432Z
LAST-MODIFIED:20250211T165646Z
UID:13878-1745424000-1745431200@greensborobound.com
SUMMARY:Author Heath Lee Reveals ‘The Mysterious Mrs. Nixon’
DESCRIPTION:In partnership with the Historical Book Club of North Carolina and Well-Spring\, A Life Plan Community\, please join us as we welcome award-winning historian and biographer Heath Hardage Lee\, just as her latest book\, The Mysterious Mrs. Nixon: Washington’s Most Private  First Lady\, debuts.  \nHeath’s narrative nonfiction book entitled The League of Wives:  The Untold Story of the Women Who Took on the U.S. Government to Bring Their Husbands Home from Vietnam was published by St. Martin’s Press in 2019.  Heath’s museum exhibition entitled The League of Wives:  Vietnam POW MIA Advocates & Allies about Vietnam POW MIA wives premiered at the Dole Institute of Politics in May of 2017 and travelled to venues all over the United States through 2023.  The League of Wives is currently being developed as a television series. Heath also writes about women’s history and politics for publications such as Time\, The Hill\, The Atlantic and White House History Quarterly.  She currently serves on the Boards of FLARE the First Ladies Association for Research and Education and BIO Biographers International Organization.  Heath’s new book The Mysterious Mrs. Nixon:  Washington’s Most Private First Lady is the first commercial biography of First Lady Pat Nixon in almost 40 years. \nShe will  speak from 4-5 p.m. at Well-Spring’s Virginia Somerville Sutton Theatre\, followed by a reception and book signing. \nAdmission is free and open to the public… we do ask that you register so that we have enough food for everyone. \n\n[captainform id=”1167661″]
URL:https://greensborobound.com/event/author-heath-lee-reveals-the-mysterious-mrs-nixon/
LOCATION:Well-Spring Retirement Community – Virginia Somerville Sutton Theatre\, 4100 Well Spring Drive\, Greensboro\, NC\, 27410
CATEGORIES:Adult,Non-Fiction
END:VEVENT
BEGIN:VEVENT
DTSTART;VALUE=DATE:20250517
DTEND;VALUE=DATE:20250518
DTSTAMP:20260425T131942
CREATED:20241118T182906Z
LAST-MODIFIED:20250410T135824Z
UID:13822-1747440000-1747526399@greensborobound.com
SUMMARY:2025 Greensboro Bound Book Festival
DESCRIPTION:  \n\n\nOUR ALL DAY FESTIVAL IS SATURDAY\, MAY 17.  \nWe’ll be exploring themes of family\, the many meanings of home\, and the past as prologue. We’ll have some serious fun with Taylor Swift songs\, flesh out the best obituary ever written\, and take a look at how N.C. became a purple state. \n\n\nWhat happens when a child of the Great Migration starts nosing around Alabama for his roots?\nHow can I get published as successfully as a certain local legend and sportswriter?\nWhat does poetry have to tell us about today’s anxious existence?\n\nAgain\, we’ll showcases our High School Poet Laureates\, and welcome children’s authors who have supported our Authors Engaging Students program. \nCLICK HERE FOR THE FULL SCHEDULE OF AUTHOR EVENTS!
URL:https://greensborobound.com/event/2025-greensboro-bound-literary-festival/
CATEGORIES:Adult,All Ages,Children,Non-Fiction,Workshop,YA,Young Adult
END:VEVENT
BEGIN:VEVENT
DTSTART;TZID=America/New_York:20250528T190000
DTEND;TZID=America/New_York:20250528T210000
DTSTAMP:20260425T131942
CREATED:20250320T175838Z
LAST-MODIFIED:20250408T150025Z
UID:14002-1748458800-1748466000@greensborobound.com
SUMMARY:Reshaping the Divide: An Evening with Cristina Henríquez
DESCRIPTION:Join us for a compelling evening with New York Times best-selling author Cristina Henríquez as we close out this year’s Greensboro Bound Book Festival with a powerful\, thought-provoking discussion. While the festival takes place May 17\, this culminating event on May 28 offers one final opportunity to gather in celebration of literature and storytelling. \nHenríquez will discuss her latest novel\, The Great Divide\, a moving exploration of the people who lived\, loved\, and labored during the construction of the Panama Canal. She will also share her personal experience of “the divide within\,” reflecting on her identity as both American and Panamanian and how her sense of self has evolved over time. \nIn conversation with Jodie Stanley\, City of Greensboro’s International Support and Language Access Coordinator\, Henríquez will delve into themes of culture\, identity\, community\, and belonging. \nVan Dyke Performance SpaceMay 28 at 7 PMFree & Open to the Public \nThis program is sponsored by Greensboro Public Library and the Greensboro Public Library Foundation\, with community partners including Greensboro Bound and Creative Greensboro.
URL:https://greensborobound.com/event/reshaping-the-divide-an-evening-with-cristina-henriquez/
LOCATION:Van Dyke Performance Space\, Greensboro Cultural Center\, 200 N Davie Street\, Greensboro\, NC\, 27401\, United States
CATEGORIES:Adult,Non-Fiction
END:VEVENT
END:VCALENDAR