BEGIN:VCALENDAR
VERSION:2.0
PRODID:-//Greensboro Bound - ECPv6.15.20//NONSGML v1.0//EN
CALSCALE:GREGORIAN
METHOD:PUBLISH
X-WR-CALNAME:Greensboro Bound
X-ORIGINAL-URL:https://greensborobound.com
X-WR-CALDESC:Events for Greensboro Bound
REFRESH-INTERVAL;VALUE=DURATION:PT1H
X-Robots-Tag:noindex
X-PUBLISHED-TTL:PT1H
BEGIN:VTIMEZONE
TZID:America/New_York
BEGIN:DAYLIGHT
TZOFFSETFROM:-0500
TZOFFSETTO:-0400
TZNAME:EDT
DTSTART:20210314T070000
END:DAYLIGHT
BEGIN:STANDARD
TZOFFSETFROM:-0400
TZOFFSETTO:-0500
TZNAME:EST
DTSTART:20211107T060000
END:STANDARD
BEGIN:DAYLIGHT
TZOFFSETFROM:-0500
TZOFFSETTO:-0400
TZNAME:EDT
DTSTART:20220313T070000
END:DAYLIGHT
BEGIN:STANDARD
TZOFFSETFROM:-0400
TZOFFSETTO:-0500
TZNAME:EST
DTSTART:20221106T060000
END:STANDARD
BEGIN:DAYLIGHT
TZOFFSETFROM:-0500
TZOFFSETTO:-0400
TZNAME:EDT
DTSTART:20230312T070000
END:DAYLIGHT
BEGIN:STANDARD
TZOFFSETFROM:-0400
TZOFFSETTO:-0500
TZNAME:EST
DTSTART:20231105T060000
END:STANDARD
END:VTIMEZONE
BEGIN:VEVENT
DTSTART;TZID=America/New_York:20220520T193000
DTEND;TZID=America/New_York:20220520T210000
DTSTAMP:20260423T121125
CREATED:20220325T152702Z
LAST-MODIFIED:20220520T154429Z
UID:8675-1653075000-1653080400@greensborobound.com
SUMMARY:Hell of a State: North Carolina's Literary Fire
DESCRIPTION:Advanced registration for this event is closed. However\, you may "walk-up" and register onsite.  \n\n\n	 \n	\n		\n	\n\n	\n\n		\n		\n			\n															\n		\n\n	\n\n\n	\n\n	\n\n		\n		\n			\n															\n		\n\n	\n\n\n	\n\n	\n\n		\n		\n			\n															\n		\n\n	\n\n\n	\n\n	\n\n		\n		\n			\n															\n		\n\n	\n\n\n	\n\n	\n\n		\n		\n			\n															\n		\n\n	\n\n		\n	\n\n	\n	\n	\n\n	\n\n\n*All events are FREE\, but we do ask that you please register so that we can monitor attendance and venue capacity.* \n2021 National Book Award winner and North Carolina native JASON MOTT  is joined by award-winning author and Greensboro’s own HOLLY GODDARD JONES as they talk about their recent work and writing from the Old North State. North Carolina Writers Network director ED SOUTHERN will moderate the conversation.  With a pre-conversation performance by COLIN CUTLER of songs inspired by the short stories of Flannery O’Connor. \n  \nJASON MOTT Bestselling author\, National Book Award Winner\, Sir Walter Raleigh Award for Fiction Winner\, Pushcart Prize nominee\, and Carnegie Medals For Excellence Longlist nominee\, Jason Mott has a BFA in Fiction and an MFA in Poetry\, both from the University of North Carolina at Wilmington. He is the author of two poetry collections and four novels. The Returned\, Jason’s debut novel\, was adapted for television and aired on the ABC network under the title “Resurrection.” Jason’s fourth novel\, Hell Of A Book\, released in June 2021\, was a Jenna Bush Hager “Read With Jenna” Book Club pick\, Carnegie Medals For Excellence in Fiction Longlist selection\, a 2022 Aspen Words Literary Prize Longlist selection\, a Joyce Carol Oates Prize Longlist selection\, the 2021 Sir Walter Raleigh Prize for Fiction winner\, and the winner of the 2021 National Book Award for Fiction. \nHOLLY GODDARD JONES is the author of three previous books of fiction\, including THE SALT LINE\, THE NEXT TIME YOU SEE ME\, and GIRL TROUBLE. She teaches in the MFA program in creative writing at UNCG. \nED SOUTHERN is the executive director of the North Carolina Writers’ Network\, and the author of ‘Fight Songs: A Story of Love & Sports in a Complicated South\,’ a finalist for the 2022 SIBA Southern Book Prize. His work has appeared in The Bitter Southerner\, storySouth\, the North Carolina Literary Review\, and elsewhere. \nCOLIN CUTLER is a Greensboro-based singer-songwriter\, short story writer\, and poet toting a banjo\, guitar\, and harmonicas\, with his musical roots drawing from the breadth of Americana—from Appalachian oldtime to gospel to country to roots rock. He holds an MA in English from UNC-Greensboro\, an MA in creative writing from York St. John University\, has taken a NC Poetry Society Gilbert-Chappell mentorship and had short stories and poetry published in The York Journal\, The Catholic Poetry Room\, with honorable mention from NC’s poet Laureate\, Jaki Shelton Green. He is currently working on an expansion of his Peacock Feathers EP into an album of songs based on Flannery O’Connor’s short stories\, and has performed for the International Flannery O’Connor Society and Andalusia Farm.
URL:https://greensborobound.com/event/mott-jones/
LOCATION:Van Dyke Performance Space\, Greensboro Cultural Center\, 200 N Davie Street\, Greensboro\, NC\, 27401\, United States
CATEGORIES:IBPOC Authors,Literary Fiction,Short Stories
END:VEVENT
BEGIN:VEVENT
DTSTART;TZID=America/New_York:20220521T100000
DTEND;TZID=America/New_York:20220521T110000
DTSTAMP:20260423T121125
CREATED:20220325T153814Z
LAST-MODIFIED:20220405T112115Z
UID:8389-1653127200-1653130800@greensborobound.com
SUMMARY:Borderlands and Crossroads: Writing\, Racism\, and Asian American Life
DESCRIPTION:*All events are FREE\, but we do ask that you please register so that we can monitor attendance and venue capacity.* \nThree Asian-American authors use their work to discuss the rise in violence toward Asian-Americans while exploring the complex joys and responsibilities of writing and identity. With MICHAEL CROLEY\, H’RINA DeTROY\, and THIEN-KIM LAM. Hosted by SAYAKA MATSUOKA. \nYou may also be interested in:\n• Immigration and Refugee Matters\n• Afternoon Delight \nMICHAEL CROLEY is the author of Any Other Place: Stories\, winner of the James Still Award from the Fellowship of Southern Writers and the Weatherford Award. He is also the co-editor (with Jack Shuler) of Midland: Reports from Flyover Country. His reporting\, stories\, and essays have appeared in Esquire\, The New York Times\, Bloomberg Businessweek\, VQR\, The Paris Review\, Kenyon Review\, LitHub\, Narrative\, and elsewhere. He is the recipient of grants from the National Endowment for the Arts\, the Ohio Arts Council\, the Kentucky Arts Council\, and the Sewanee Writers’ Conference. He teaches at Denison University and is on the visiting faculty at the Vermont College of Fine Arts.\n \nH’RINA DeTROY is a Montagnard American writer based in Brooklyn. She was the recipient of the 2020 Cafe Royal Cultural Foundation Grant in Literature and a 2019 Emerging Writer Fellowship at Aspen Word in Memoir. Roxane Gay selected her essay entitled “The Vengeance of Elephants” for the 2017 Curt Johnson Prose Prize in Creative Nonfiction for December Magazine. She holds a Master of Arts in Journalism and MFA in Creative Writing from Hunter College. She’s a teacher and working with the Montagnard Dega Association and the city of Greensboro\, she created the ground-breaking workshop\, “Apocalypse Never: Writing Our Origin Stories and Imaginative Futures as Montagnard Americans.” A contributing editor for DiaCRITICS\, she focuses amplifying Montagnard and other indigenous\, ethnic minority voices of Southeast Asian diasporas. \nTHIEN-KIM LAM writes stories about Vietnamese characters who smash stereotypes and find their happy endings. A recovering Type-Asian\, she guzzles cà phê sữa đá\, makes art\, and bakes her feelings to stay sane. Thien-Kim is also the founder of Bawdy Bookworms\, a subscription box that pairs sexy romances with erotic toys. She’s been featured on Jezebel\, NPR\, BBC America\, and Glamour. Her debut novel Happy Endings is now available\, and her forthcoming book will be released in 2022. \n  \nSAYAKA MATSUOKA is a freelance journalist and managing editor for Triad City Beat\, an alternative weekly newspaper based in Greensboro covering the Triad. She was born in NY but raised in Greensboro. She writes mostly for the paper these days\, about anything from cultural events and food to right-wing extremism and police brutality.
URL:https://greensborobound.com/event/borderlands-and-crossroads/
LOCATION:Stephen D. Hyers Theater\, Greensboro Cultural Center\, 200 N Davie Street\, GREENSBORO\, NC\, 27401\, United States
CATEGORIES:API Authors,IBPOC Authors,Literary Fiction,Memoir/Personal Essay,Non-Fiction,Romance,Short Stories
END:VEVENT
END:VCALENDAR